 BEGIN:VCALENDAR
VERSION:2.0
PRODID:-//82.100.220.56//NONSGML kigkonsult.se iCalcreator 2.20//
CALSCALE:GREGORIAN
METHOD:PUBLISH
X-WR-TIMEZONE:Europe/Berlin
BEGIN:VEVENT
UID:event364@Camposada
DTSTAMP:20260420T190543Z
CATEGORIES:frühere Termine
DESCRIPTION:Auftritt: FI-Fun Run 2023\nKategorie: frühere Termine\nICS-Link
 : http://www.camposada.de/index.php?option=com_jem&view=event&id=364:auftr
 itt-fi-fun-run-2023\n
DTSTART;TZID=Europe/Berlin:20230913T170000
DTEND;TZID=Europe/Berlin:20230913T190000
SUMMARY:Auftritt: FI-Fun Run 2023
URL:http://www.camposada.de/index.php?option=com_jem&view=event&id=364:auft
 ritt-fi-fun-run-2023
END:VEVENT
END:VCALENDAR
